BEGIN:VCALENDAR
VERSION:2.0
PRODID:-//eventon.com NONSGML v1.0//EN
CALSCALE:GREGORIAN
METHOD:PUBLISH
BEGIN:VEVENT
UID:69e5f8c3c72e4
DTSTAMP:20260420T115827
DTSTART:20250908T100000Z
DTEND:20250908T110000Z
TZID:Europe/Berlin
LOCATION:NKubator Fürther Straße 246b\,  90429 Nürnberg
SUMMARY:LUNCH & TALK- Mittagessen und Austausch mit unseren Start-ups und uns
DESCRIPTION: Kommt vorbei\,  vernetzt Euch mit unseren Startups aus den Bereichen Energie\,  GreenTech und Nachhaltigkeit – und tauscht Euch bei selbst gekochtem vegetarischen Essen über Erfahrungen\,  Learnings und den Gründungsalltag aus. Egal\,  ob Ihr schon gegründet habt\,  gerade erst darüber nachdenkt oder einfach Lust habt\,  euch mit Gründerinnen und Gründern auszutauschen[..]\nhttps://www.startup-base.de/events/lunch-talk-mittagessen-und-austausch-mit-unseren-start-ups-und-uns-08-09-25/
URL:https://www.startup-base.de/events/lunch-talk-mittagessen-und-austausch-mit-unseren-start-ups-und-uns-08-09-25/
END:VEVENT
END:VCALENDAR